BEGIN:VCALENDAR
VERSION:2.0
PRODID:-//www.heritageworks.org//NONSGML kigkonsult.se iCalcreator 2.30.10/
 /
CALSCALE:GREGORIAN
METHOD:PUBLISH
UID:9a440b02-b9b3-468c-96b7-ee8a28a27efd
X-WR-CALDESC:
X-WR-RELCALID:93b322c36513b7992036f8fcf2a0e58d
X-WR-TIMEZONE:America/New_York
BEGIN:VTIMEZONE
TZID:America/New_York
BEGIN:STANDARD
TZNAME:EST
DTSTART:20191103T020000
TZOFFSETFROM:-0400
TZOFFSETTO:-0500
RDATE:20201101T020000
RDATE:20211107T020000
END:STANDARD
BEGIN:DAYLIGHT
TZNAME:EDT
DTSTART:20200308T020000
TZOFFSETFROM:-0500
TZOFFSETTO:-0400
RDATE:20210314T020000
RDATE:20220313T020000
END:DAYLIGHT
END:VTIMEZONE
BEGIN:VEVENT
UID:893b5419-80d6-4f94-8d48-27966e360e2d
DTSTAMP:20260423T104111Z
DESCRIPTION:
DTSTART;TZID=America/New_York:20201022T131500
DTEND;TZID=America/New_York:20201022T143000
LOCATION:Zoom
SUMMARY:Endangered Species Virtual Performance
END:VEVENT
END:VCALENDAR
